BEGIN:VCALENDAR
VERSION:2.0
PRODID:-//Menai Anglican Church - ECPv6.15.20//NONSGML v1.0//EN
CALSCALE:GREGORIAN
METHOD:PUBLISH
X-WR-CALNAME:Menai Anglican Church
X-ORIGINAL-URL:https://menaianglican.org
X-WR-CALDESC:Events for Menai Anglican Church
REFRESH-INTERVAL;VALUE=DURATION:PT1H
X-Robots-Tag:noindex
X-PUBLISHED-TTL:PT1H
BEGIN:VTIMEZONE
TZID:Australia/Sydney
BEGIN:STANDARD
TZOFFSETFROM:+1100
TZOFFSETTO:+1000
TZNAME:AEST
DTSTART:20230401T160000
END:STANDARD
BEGIN:DAYLIGHT
TZOFFSETFROM:+1000
TZOFFSETTO:+1100
TZNAME:AEDT
DTSTART:20230930T160000
END:DAYLIGHT
BEGIN:STANDARD
TZOFFSETFROM:+1100
TZOFFSETTO:+1000
TZNAME:AEST
DTSTART:20240406T160000
END:STANDARD
BEGIN:DAYLIGHT
TZOFFSETFROM:+1000
TZOFFSETTO:+1100
TZNAME:AEDT
DTSTART:20241005T160000
END:DAYLIGHT
BEGIN:STANDARD
TZOFFSETFROM:+1100
TZOFFSETTO:+1000
TZNAME:AEST
DTSTART:20250405T160000
END:STANDARD
BEGIN:DAYLIGHT
TZOFFSETFROM:+1000
TZOFFSETTO:+1100
TZNAME:AEDT
DTSTART:20251004T160000
END:DAYLIGHT
END:VTIMEZONE
BEGIN:VEVENT
DTSTART;TZID=Australia/Sydney:20240615T100000
DTEND;TZID=Australia/Sydney:20240615T110000
DTSTAMP:20260422T091019
CREATED:20240530T044116Z
LAST-MODIFIED:20240607T011722Z
UID:19089-1718445600-1718449200@menaianglican.org
SUMMARY:Commissioning Service - Brenton and Mel Kilby
DESCRIPTION:This is the Sydney Commissioning Service for Brenton and Mel Kilby before they leave for Tanzania with CMS. \n 
URL:https://menaianglican.org/event/commissioning-service-brenton-and-mel-kilby/
LOCATION:Jannali Anglican Church\, 83 Wattle Road\, Jannali\, NSW\, Australia
ATTACH;FMTTYPE=image/jpeg:https://menaianglican.org/wp-content/uploads/2024/05/Kilby23_Web-profile-photo.jpg
END:VEVENT
BEGIN:VEVENT
DTSTART;TZID=Australia/Sydney:20240423T190000
DTEND;TZID=Australia/Sydney:20240423T210000
DTSTAMP:20260422T091019
CREATED:20240314T000229Z
LAST-MODIFIED:20240411T010833Z
UID:18948-1713898800-1713906000@menaianglican.org
SUMMARY:Sharing Jesus Across Cultures (together with a Food of Origin Pot-Luck)
DESCRIPTION:How do we reach across cultures with the message of Jesus Christ? \nWe have a special guest\, Matt Dodd\, from Lakemba Anglican speaking to us about this important topic. \nBring something Potluck to share if you are able: \nEither a main meal\, nibbles\, a salad\, drink etc …(optional: add a label of the country of origin of the food).  Bring the food warm\, we’ll be serving straight away. NB: No nuts. \n\n7.00pm: Pot luck dinner around tables.\n7.45pm: Sharing Jesus Across Cultures
URL:https://menaianglican.org/event/sharing-jesus-across-cultures/
LOCATION:Menai Anglican Church\, Broughton Place\, Barden Ridge\, NSW\, 2234\, Australia
CATEGORIES:Church
ATTACH;FMTTYPE=image/jpeg:https://menaianglican.org/wp-content/uploads/2024/03/7K2A3517.jpg
END:VEVENT
BEGIN:VEVENT
DTSTART;TZID=Australia/Sydney:20240422T000000
DTEND;TZID=Australia/Sydney:20240426T000000
DTSTAMP:20260422T091019
CREATED:20240307T045552Z
LAST-MODIFIED:20240307T045552Z
UID:18920-1713744000-1714089600@menaianglican.org
SUMMARY:Camp One
DESCRIPTION:MAC Youth’s Camp One 2024 is for youth in years 6-12. Visit the website for more information and to sign up.
URL:https://menaianglican.org/event/camp-one/
LOCATION:Youthworks Conference Centres\, Port Hacking\, 1 Rathane Rd\, Royal National Park\, NSW\, 2234\, Australia
CATEGORIES:MAC Youth
ATTACH;FMTTYPE=image/jpeg:https://menaianglican.org/wp-content/uploads/2020/06/mac-youth-slider.jpg
ORGANIZER;CN="Connor Davaram - Youth Minister":MAILTO:connor@menaianglican.org
END:VEVENT
BEGIN:VEVENT
DTSTART;TZID=Australia/Sydney:20240414T160000
DTEND;TZID=Australia/Sydney:20240414T173000
DTSTAMP:20260422T091019
CREATED:20240411T065226Z
LAST-MODIFIED:20240411T070546Z
UID:18988-1713110400-1713115800@menaianglican.org
SUMMARY:Fall into Prayer
DESCRIPTION:Prayer for our mission partners hosted by the Global Missions Team. Meeting at church in the Garden Room.
URL:https://menaianglican.org/event/fall-into-prayer/
LOCATION:Menai Anglican Church\, Broughton Place\, Barden Ridge\, NSW\, 2234\, Australia
ATTACH;FMTTYPE=image/png:https://menaianglican.org/wp-content/uploads/2024/04/Screenshot-2024-04-11-at-5.05.09 pm.png
END:VEVENT
BEGIN:VEVENT
DTSTART;TZID=Australia/Sydney:20240406T140000
DTEND;TZID=Australia/Sydney:20240406T173000
DTSTAMP:20260422T091019
CREATED:20240307T011006Z
LAST-MODIFIED:20240307T031831Z
UID:18893-1712412000-1712424600@menaianglican.org
SUMMARY:Clay Target Shooting - Men’s Event
DESCRIPTION:This event is open to any blokes over 18 years – you don’t need a firearms licence and all safety briefs and instruction will be provided by range staff. \nHeaps of fun and harder than it looks – so it’ll be a good challenge! \n\n\nSteve Wakeford will be speaking at this event. \nBook here: elvan.to/Q7gO3 \nPlease note that this event is limited to 60 blokes – so you’ll need to book in quickly. \nWe will finish in time to be home before dinner or SNC.
URL:https://menaianglican.org/event/clay-target-shooting-mens-event/
LOCATION:Sydney Clay Target Range on Heathcote Rd\, Lucas Heights\, Heathcote Rd\, Lucas Heights \, NSW\, Australia
CATEGORIES:Men’s Event
ATTACH;FMTTYPE=image/jpeg:https://menaianglican.org/wp-content/uploads/2024/03/SydneyClayTargetClub-Gallery-40.jpg
END:VEVENT
BEGIN:VEVENT
DTSTART;TZID=Australia/Sydney:20240331T073000
DTEND;TZID=Australia/Sydney:20240331T113000
DTSTAMP:20260422T091019
CREATED:20240313T235128Z
LAST-MODIFIED:20240313T235706Z
UID:18943-1711870200-1711884600@menaianglican.org
SUMMARY:Easter Services
DESCRIPTION:Easter is a wonderful time to come together and celebrate the life\, death and resurrection of Jesus. Everyone is welcome. \nJoin us at one of our three Easter Services: \n7:30am\, 9am*\, 10:30am* \n*With a kids’ program
URL:https://menaianglican.org/event/easter-services/
LOCATION:Menai Anglican Church\, Broughton Place\, Barden Ridge\, NSW\, 2234\, Australia
CATEGORIES:Church
ATTACH;FMTTYPE=image/jpeg:https://menaianglican.org/wp-content/uploads/2024/03/MAC_Easter_2024_Postcard.jpg
END:VEVENT
BEGIN:VEVENT
DTSTART;TZID=Australia/Sydney:20240329T073000
DTEND;TZID=Australia/Sydney:20240329T113000
DTSTAMP:20260422T091019
CREATED:20240313T235002Z
LAST-MODIFIED:20240313T235615Z
UID:18941-1711697400-1711711800@menaianglican.org
SUMMARY:Good Friday Services
DESCRIPTION:Easter is a wonderful time to come together and celebrate the life\, death and resurrection of Jesus. Everyone is welcome. \nJoin us at one of our three Good Friday Services: \n7:30am\, 9am*\, 10:30am* \n*With a kids’ program
URL:https://menaianglican.org/event/good-friday-services/
LOCATION:Menai Anglican Church\, Broughton Place\, Barden Ridge\, NSW\, 2234\, Australia
CATEGORIES:Church
ATTACH;FMTTYPE=image/jpeg:https://menaianglican.org/wp-content/uploads/2024/03/MAC_Easter_2024_Postcard.jpg
END:VEVENT
BEGIN:VEVENT
DTSTART;TZID=Australia/Sydney:20240327T200000
DTEND;TZID=Australia/Sydney:20240327T210000
DTSTAMP:20260422T091019
CREATED:20240313T234618Z
LAST-MODIFIED:20240314T232639Z
UID:18939-1711569600-1711573200@menaianglican.org
SUMMARY:Service of Shadows (A reflection on suffering)
DESCRIPTION:Menai Anglican Church is running a more reflective  “Service of Shadows” on Wednesday 27th March at 8pm. Kurt Peters will be speaking on Jesus’ suffering in the Garden of Gethsemane in the shadow of the cross. If you’ve ever experienced deep grief\, sorrow\, or pain\, this service will enable you to meet Jesus in that place. We’ll see how Jesus poured out his heart to the Father\, asking hard questions and battling temptation to bring us rest. This service will be good for anyone\, and might especially suit those who have had a rough time recently\, as well as those who are travelling over the Easter Weekend who don’t want to miss out focusing on Jesus.
URL:https://menaianglican.org/event/service-of-shadows-a-reflection-on-suffering/
LOCATION:Menai Anglican Church\, Broughton Place\, Barden Ridge\, NSW\, 2234\, Australia
CATEGORIES:Church
ATTACH;FMTTYPE=image/jpeg:https://menaianglican.org/wp-content/uploads/2024/03/MAC_Easter_2024_Postcard.jpg
END:VEVENT
BEGIN:VEVENT
DTSTART;TZID=Australia/Sydney:20240322T060000
DTEND;TZID=Australia/Sydney:20240324T160000
DTSTAMP:20260422T091019
CREATED:20240307T051014Z
LAST-MODIFIED:20240307T053137Z
UID:18923-1711087200-1711296000@menaianglican.org
SUMMARY:Everybody Eats
DESCRIPTION:A great way to spend time getting to know others from your congregation over a meal. You could even say Everybody Eats = everybody meets. Sign up today.
URL:https://menaianglican.org/event/everybody-eats/
LOCATION:NSW
CATEGORIES:Church
ATTACH;FMTTYPE=image/jpeg:https://menaianglican.org/wp-content/uploads/2024/02/Website-banner_2024.jpg
ORGANIZER;CN="Margaret Icke":MAILTO:margaret.icke@menaianglican.org
END:VEVENT
END:VCALENDAR