BEGIN:VCALENDAR
VERSION:2.0
PRODID:-//Menai Anglican Church - ECPv6.15.20//NONSGML v1.0//EN
CALSCALE:GREGORIAN
METHOD:PUBLISH
X-WR-CALNAME:Menai Anglican Church
X-ORIGINAL-URL:https://menaianglican.org
X-WR-CALDESC:Events for Menai Anglican Church
REFRESH-INTERVAL;VALUE=DURATION:PT1H
X-Robots-Tag:noindex
X-PUBLISHED-TTL:PT1H
BEGIN:VTIMEZONE
TZID:Australia/Sydney
BEGIN:STANDARD
TZOFFSETFROM:+1100
TZOFFSETTO:+1000
TZNAME:AEST
DTSTART:20230401T160000
END:STANDARD
BEGIN:DAYLIGHT
TZOFFSETFROM:+1000
TZOFFSETTO:+1100
TZNAME:AEDT
DTSTART:20230930T160000
END:DAYLIGHT
BEGIN:STANDARD
TZOFFSETFROM:+1100
TZOFFSETTO:+1000
TZNAME:AEST
DTSTART:20240406T160000
END:STANDARD
BEGIN:DAYLIGHT
TZOFFSETFROM:+1000
TZOFFSETTO:+1100
TZNAME:AEDT
DTSTART:20241005T160000
END:DAYLIGHT
BEGIN:STANDARD
TZOFFSETFROM:+1100
TZOFFSETTO:+1000
TZNAME:AEST
DTSTART:20250405T160000
END:STANDARD
BEGIN:DAYLIGHT
TZOFFSETFROM:+1000
TZOFFSETTO:+1100
TZNAME:AEDT
DTSTART:20251004T160000
END:DAYLIGHT
END:VTIMEZONE
BEGIN:VEVENT
DTSTART;TZID=Australia/Sydney:20240908T114500
DTEND;TZID=Australia/Sydney:20240908T143000
DTSTAMP:20260422T074252
CREATED:20240718T065758Z
LAST-MODIFIED:20240718T065758Z
UID:19311-1725795900-1725805800@menaianglican.org
SUMMARY:Onboard - 8 Sept
DESCRIPTION:You’re invited to ONBOARD. \nONBOARD is all about making Menai Anglican Church home. \nIf you are committed to Jesus and want to find out what it means to be a part of our church\, come and join us. Hear from Andrew Barry about the story\, plans\, structures\, ministries and some of the distinctives of our church. Receive a booklet. Ask your questions. Find out about the next steps. The food is always amazing. \n  \nChoose from one of the following upcoming meeting options: \nSunday 28 July | 11.45 – 2.30pm \nLunch provided + childminding \nRSVP to Margaret (margaret.icke@menaianglican.org) by 24th July \nOR \nSunday 8 Sept | 11.45 – 2.30pm \nLunch provided + childminding \nRSVP to Margaret (margaret.icke@menaianglican.org) by 1st September
URL:https://menaianglican.org/event/onboard-8-sept/
LOCATION:Menai Anglican Church\, Broughton Place\, Barden Ridge\, NSW\, 2234\, Australia
ATTACH;FMTTYPE=image/jpeg:https://menaianglican.org/wp-content/uploads/2024/07/announcement_various_july-scaled.jpg
ORGANIZER;CN="Margaret Icke":MAILTO:margaret.icke@menaianglican.org
END:VEVENT
BEGIN:VEVENT
DTSTART;TZID=Australia/Sydney:20240824T093000
DTEND;TZID=Australia/Sydney:20240824T160000
DTSTAMP:20260422T074252
CREATED:20240718T055648Z
LAST-MODIFIED:20240808T234201Z
UID:19289-1724491800-1724515200@menaianglican.org
SUMMARY:One Love (Women's KCC)
DESCRIPTION:A group of MAC women will be going to One Love this year. If you would like to join them please let Margaret know and purchase your ticket via One Love website. If 5 or more women buy tickets together a $10 discount per ticket is currently available till the end of July. \nStandard Ticket Price\n1 May – 16 August\n$121 / Ticket | $75 / Student Ticket* \n  \n2024 Theme \nOvercoming Complacency\nHow the Joy of the Father Can Reignite Your Devotion\nOur lives are shaped by routine – from workplaces to home life\, from fitness classes to even church services. With this\, the beauty of the gospel risks becoming over-familiar\, leading to complacency and indifference. Despite our best efforts to reignite the passion we once had\, time and time again we find ourselves slipping back into our schedules\, where our faith becomes just another part of our daily lives. I wonder if you know this cycle well? \nOneLove24 will be an opportunity to pause\, to reflect and rediscover the sheer joy of being known and loved by the Father. Through songs\, shared stories and Biblical talks\, we will seek to know Him better\, his boundless Love for us and the joy that it brings. Our prayer is that you’ll leave the conference with a fresh view of what it means to be a child of God and how it shapes everything you do. We hope you will join us! \nYour ticket price covers: \nProgram attendance\nPrinted booklet\nLunch\nConference gift \n 
URL:https://menaianglican.org/event/one-love-womens-kcc/
LOCATION:NSW
CATEGORIES:Women's Events
ATTACH;FMTTYPE=image/jpeg:https://menaianglican.org/wp-content/uploads/2024/07/OneLove-2023-48.jpg
ORGANIZER;CN="Margaret Icke":MAILTO:margaret.icke@menaianglican.org
END:VEVENT
BEGIN:VEVENT
DTSTART;TZID=Australia/Sydney:20240811T083000
DTEND;TZID=Australia/Sydney:20240811T213000
DTSTAMP:20260422T074252
CREATED:20240718T062041Z
LAST-MODIFIED:20240718T062041Z
UID:19297-1723365000-1723411800@menaianglican.org
SUMMARY:Newish
DESCRIPTION:A free breakfast for all new people at Menai Anglican Church. Come along and meet staff\, regulars\, and other new people. Children are more than welcome to come along with you. \nRSVP to Margaret (margaret.icke@menaianglican.org) by Wednesday 7th August.
URL:https://menaianglican.org/event/newish/
LOCATION:NSW
CATEGORIES:Church
ATTACH;FMTTYPE=image/jpeg:https://menaianglican.org/wp-content/uploads/2024/07/Newish-Slide-scaled.jpg
ORGANIZER;CN="Margaret Icke":MAILTO:margaret.icke@menaianglican.org
END:VEVENT
BEGIN:VEVENT
DTSTART;TZID=Australia/Sydney:20240810T193000
DTEND;TZID=Australia/Sydney:20240810T210000
DTSTAMP:20260422T074252
CREATED:20240718T063538Z
LAST-MODIFIED:20240718T063538Z
UID:19300-1723318200-1723323600@menaianglican.org
SUMMARY:Youth Onboard + Free Pizza
DESCRIPTION:Youth Onboard is a jumpstart to life at this church. Come hear our story\, vision\, ministries\, explore some possible next steps and ways of belonging while meeting others who are also new to our church.  \nSaturday 10 August (after SNC)\nFor Years 9 – 11\nMeet in the church foyer. \nRSVP to Margaret (margaret.icke@menaianglican.org) by Friday 9th August.
URL:https://menaianglican.org/event/youth-onboard-free-pizza/
LOCATION:Menai Anglican Church\, Broughton Place\, Barden Ridge\, NSW\, 2234\, Australia
ATTACH;FMTTYPE=image/jpeg:https://menaianglican.org/wp-content/uploads/2024/07/Pizza-3007395-scaled.jpg
ORGANIZER;CN="Margaret Icke":MAILTO:margaret.icke@menaianglican.org
END:VEVENT
BEGIN:VEVENT
DTSTART;TZID=Australia/Sydney:20240728T140000
DTEND;TZID=Australia/Sydney:20240908T160000
DTSTAMP:20260422T074252
CREATED:20240709T020051Z
LAST-MODIFIED:20240912T052701Z
UID:19017-1722175200-1725811200@menaianglican.org
SUMMARY:5 Week PTC Course - Christ & His Work
DESCRIPTION:Grow Your Understanding of God’s Word\nIn Term 3\, 2024 we’re running “Christ & His Work (Doctrine 2)” – one of the units from Moore College’s Preliminary Theological Certificate (PTC). PTC aims to build your understanding and appreciation of the biblical\, theological and historical foundations of the Christian faith. \nChrist & His Work (Doctrine 2) focuses on what we know about the identity of Christ and Christ he accomplished\, especially on the cross. This includes introducing students to theological approaches to understanding how Christ’s humanity relates to his divinity\, showing how understanding this is important for understanding what Christ did in his death and resurrection. Included in the investigation of the cross is an examination of the nature and effects of sin. \nStart date: Sunday\, 28th July 2024 \nFrequency: 5 Sunday afternoons 2-4pm\, starting 28th July 2024 and then 11th + 25 Aug and 8th + 22nd September. \nLocation: Menai Anglican Church \nCost: $70 per person \nFor further information or to register your interest\, contact Jethro Dickens (jethro.dickens@gmail.com) or the church office on 9541 0990.
URL:https://menaianglican.org/event/5-week-ptc-course-christ-and-his-work/
LOCATION:Menai Anglican Church\, Broughton Place\, Barden Ridge\, NSW\, 2234\, Australia
ATTACH;FMTTYPE=image/jpeg:https://menaianglican.org/wp-content/uploads/2024/08/level2-christ-and-his-work.jpg
ORGANIZER;CN="Jethro Dickens":MAILTO:jethro.dickens@gmail.com
END:VEVENT
BEGIN:VEVENT
DTSTART;TZID=Australia/Sydney:20240728T114500
DTEND;TZID=Australia/Sydney:20240728T143000
DTSTAMP:20260422T074252
CREATED:20240718T065637Z
LAST-MODIFIED:20240718T065637Z
UID:19307-1722167100-1722177000@menaianglican.org
SUMMARY:Onboard - 28 July
DESCRIPTION:You’re invited to ONBOARD. \nONBOARD is all about making Menai Anglican Church home. \nIf you are committed to Jesus and want to find out what it means to be a part of our church\, come and join us. Hear from Andrew Barry about the story\, plans\, structures\, ministries and some of the distinctives of our church. Receive a booklet. Ask your questions. Find out about the next steps. The food is always amazing. \n  \nChoose from one of the following upcoming meeting options: \nSunday 28 July | 11.45 – 2.30pm \nLunch provided + childminding \nRSVP to Margaret (margaret.icke@menaianglican.org) by 24th July \nOR \nSunday 8 Sept | 11.45 – 2.30pm \nLunch provided + childminding \nRSVP to Margaret (margaret.icke@menaianglican.org) by 1st September
URL:https://menaianglican.org/event/onboard-28-july/
LOCATION:Menai Anglican Church\, Broughton Place\, Barden Ridge\, NSW\, 2234\, Australia
ATTACH;FMTTYPE=image/jpeg:https://menaianglican.org/wp-content/uploads/2024/07/announcement_various_july-scaled.jpg
ORGANIZER;CN="Margaret Icke":MAILTO:margaret.icke@menaianglican.org
END:VEVENT
BEGIN:VEVENT
DTSTART;TZID=Australia/Sydney:20240722T193000
DTEND;TZID=Australia/Sydney:20240722T210000
DTSTAMP:20260422T074252
CREATED:20240712T015336Z
LAST-MODIFIED:20240712T015734Z
UID:19282-1721676600-1721682000@menaianglican.org
SUMMARY:Getting ready for Leviticus (for leaders but open to anyone)
DESCRIPTION:The book of Leviticus is potentially one of the most unfamiliar parts of the Bible for most Christians. It is quickly dismissed as “boring”\, “irrelevant”\, or even “obsolete”. This is a shame as the book is theologically rich and almost essential in understanding the full- orbed message of the gospel. In term 3\, we will be hearing God speak to us as we unpack this Old Testament book.\n\n\n\nTo help us mine the depths of Leviticus\, we are having Dr Geoff Harper (Director of Research and Lecturer in Old Testament at SMBC) come along and take us through an overview of the book on Monday 22nd July 7:30-9pm at church. He is one of the world experts on this book. The night is particularly for all our Growth Group leaders\, but open to anyone in our church family who is keen.\n\n\n“For me\, Leviticus was a book that felt legalistic\, outdated and so repetitive. However\, once working through this part of God’s word with guidance it was clear this is a book of grace upon grace upon grace. I was able to see the lengths a holy God would go to\, to dwell with a sinful people as his treasured possession. Oh the grace of God\, to then be fully realised in the person and work of Jesus the Christ as the fulfilment of Leviticus.” – Connor.
URL:https://menaianglican.org/event/an-introduction-to-leviticus/
LOCATION:Menai Anglican Church\, Broughton Place\, Barden Ridge\, NSW\, 2234\, Australia
ATTACH;FMTTYPE=image/jpeg:https://menaianglican.org/wp-content/uploads/2024/07/1655249477460.jpeg
ORGANIZER;CN="Connor Davaram - Youth Minister":MAILTO:connor@menaianglican.org
END:VEVENT
BEGIN:VEVENT
DTSTART;VALUE=DATE:20240709
DTEND;VALUE=DATE:20240713
DTSTAMP:20260422T074252
CREATED:20240607T004250Z
LAST-MODIFIED:20240607T004509Z
UID:19124-1720483200-1720828799@menaianglican.org
SUMMARY:July Kids Holiday Club
DESCRIPTION:JULY KIDS HOLIDAY CLUB \nHey kids are looking for some wacky fun these holidays? \nJoin us for two identical Wacky Olympic holiday clubs in July! \nRegister and more information
URL:https://menaianglican.org/event/july-kids-holiday-club/
LOCATION:Menai Anglican Church\, Broughton Place\, Barden Ridge\, NSW\, 2234\, Australia
ATTACH;FMTTYPE=image/png:https://menaianglican.org/wp-content/uploads/2024/05/circle-website-2.png
ORGANIZER;CN="MAC Kids":MAILTO:kelly@menaianglican.org
END:VEVENT
BEGIN:VEVENT
DTSTART;TZID=Australia/Sydney:20240704T190000
DTEND;TZID=Australia/Sydney:20240704T210000
DTSTAMP:20260422T074252
CREATED:20240607T014739Z
LAST-MODIFIED:20240620T052632Z
UID:19141-1720119600-1720126800@menaianglican.org
SUMMARY:Farewell to Stefan and Helen Bull
DESCRIPTION:We are so thankful to God for Stefan and Helen Bull and their partnership with us in the gospel at Menai Anglican Church. We want to send them with a blessing and with thankfulness. Join us for: \n\na pot-luck dinner\ntributes of thanks\npresents\nprayers\n\nPLEASE RSVP HERE\nIf you would like to contribute towards a gift to Stefan and Helen\, please do so in our regular bank account … \nBSB – 062-259\nAccount – 00908164\nPayee – St Pauls Anglican Church\nReference –  GIFT STEFAN \n 
URL:https://menaianglican.org/event/farewell-to-stefan-and-helen-bull/
LOCATION:NSW
ATTACH;FMTTYPE=image/jpeg:https://menaianglican.org/wp-content/uploads/2024/06/65575947_10157404296001719_1403184739229106176_n.jpg
END:VEVENT
BEGIN:VEVENT
DTSTART;TZID=Australia/Sydney:20240630T160000
DTEND;TZID=Australia/Sydney:20240630T173000
DTSTAMP:20260422T074252
CREATED:20240530T050248Z
LAST-MODIFIED:20240530T050248Z
UID:19094-1719763200-1719768600@menaianglican.org
SUMMARY:Chill out and Pray - Prayer for our Mission partners
DESCRIPTION:A time dedicated to praying for our mission partners taking the gospel around the world.
URL:https://menaianglican.org/event/chill-out-and-pray-prayer-for-our-mission-partners/
LOCATION:Menai Anglican Church\, Broughton Place\, Barden Ridge\, NSW\, 2234\, Australia
ATTACH;FMTTYPE=image/jpeg:https://menaianglican.org/wp-content/uploads/2024/05/Kilby23_Web-profile-photo2.jpg
ORGANIZER;CN="Bryan Pevely":MAILTO:blpev56@gmail.com
END:VEVENT
BEGIN:VEVENT
DTSTART;TZID=Australia/Sydney:20240626T183000
DTEND;TZID=Australia/Sydney:20240626T223000
DTSTAMP:20260422T074252
CREATED:20240307T013714Z
LAST-MODIFIED:20240610T235254Z
UID:18905-1719426600-1719441000@menaianglican.org
SUMMARY:State of Origin - Men’s Event
DESCRIPTION:Join us for all the State of Origin action on the big screen at church + delicious kebabs.\n\nSteve Wakeford will also be interviewing ex NRL player\, David Simmons (currently a minister at Emu Plains Anglican).\n\nAdult Dinner cost – $25\nUnder 18’s Dinner cost – $15\nNo dinner option – $0\n\nBook your ticket
URL:https://menaianglican.org/event/state-of-origin-mens-event/
LOCATION:Menai Anglican Church\, Broughton Place\, Barden Ridge\, NSW\, 2234\, Australia
CATEGORIES:Men’s Event
ATTACH;FMTTYPE=image/png:https://menaianglican.org/wp-content/uploads/2023/06/Website-Quick-Links-SOO.png
END:VEVENT
BEGIN:VEVENT
DTSTART;TZID=Australia/Sydney:20240622T100000
DTEND;TZID=Australia/Sydney:20240622T150000
DTSTAMP:20260422T074253
CREATED:20240607T005332Z
LAST-MODIFIED:20240607T005332Z
UID:19133-1719050400-1719068400@menaianglican.org
SUMMARY:Equip Women's Conference (watch at Menai Anglican)
DESCRIPTION:The book of Revelation paints a picture of heaven that sometimes raises more questions than it answers. What is certain\, though\, is that Jesus is on His throne\, offering hope for his weary followers. \nEQUIP returns in 2024\, offering a one-day conference ready made for the women at your church. Gather a group and join us via live stream on Saturday 22 June 2024 to hear God’s Word to us from Revelation 1-5. \nJoin Ruth Barry and a few other women live-streaming equip into our front lounge room. Bring your own lunch or grab some take-away. \nFor more information and registration.
URL:https://menaianglican.org/event/equip-womens-conference-watch-at-menai-anglican/
LOCATION:Menai Anglican Church\, Broughton Place\, Barden Ridge\, NSW\, 2234\, Australia
ATTACH;FMTTYPE=image/jpeg:https://menaianglican.org/wp-content/uploads/2024/06/Websitebanner2550x1437.jpg
ORGANIZER;CN="Ruth Barry":MAILTO:ruth.bardenridge@gmail.com
END:VEVENT
BEGIN:VEVENT
DTSTART;TZID=Australia/Sydney:20240615T100000
DTEND;TZID=Australia/Sydney:20240615T110000
DTSTAMP:20260422T074253
CREATED:20240530T044116Z
LAST-MODIFIED:20240607T011722Z
UID:19089-1718445600-1718449200@menaianglican.org
SUMMARY:Commissioning Service - Brenton and Mel Kilby
DESCRIPTION:This is the Sydney Commissioning Service for Brenton and Mel Kilby before they leave for Tanzania with CMS. \n 
URL:https://menaianglican.org/event/commissioning-service-brenton-and-mel-kilby/
LOCATION:Jannali Anglican Church\, 83 Wattle Road\, Jannali\, NSW\, Australia
ATTACH;FMTTYPE=image/jpeg:https://menaianglican.org/wp-content/uploads/2024/05/Kilby23_Web-profile-photo.jpg
END:VEVENT
BEGIN:VEVENT
DTSTART;TZID=Australia/Sydney:20240423T190000
DTEND;TZID=Australia/Sydney:20240423T210000
DTSTAMP:20260422T074253
CREATED:20240314T000229Z
LAST-MODIFIED:20240411T010833Z
UID:18948-1713898800-1713906000@menaianglican.org
SUMMARY:Sharing Jesus Across Cultures (together with a Food of Origin Pot-Luck)
DESCRIPTION:How do we reach across cultures with the message of Jesus Christ? \nWe have a special guest\, Matt Dodd\, from Lakemba Anglican speaking to us about this important topic. \nBring something Potluck to share if you are able: \nEither a main meal\, nibbles\, a salad\, drink etc …(optional: add a label of the country of origin of the food).  Bring the food warm\, we’ll be serving straight away. NB: No nuts. \n\n7.00pm: Pot luck dinner around tables.\n7.45pm: Sharing Jesus Across Cultures
URL:https://menaianglican.org/event/sharing-jesus-across-cultures/
LOCATION:Menai Anglican Church\, Broughton Place\, Barden Ridge\, NSW\, 2234\, Australia
CATEGORIES:Church
ATTACH;FMTTYPE=image/jpeg:https://menaianglican.org/wp-content/uploads/2024/03/7K2A3517.jpg
END:VEVENT
BEGIN:VEVENT
DTSTART;TZID=Australia/Sydney:20240422T000000
DTEND;TZID=Australia/Sydney:20240426T000000
DTSTAMP:20260422T074253
CREATED:20240307T045552Z
LAST-MODIFIED:20240307T045552Z
UID:18920-1713744000-1714089600@menaianglican.org
SUMMARY:Camp One
DESCRIPTION:MAC Youth’s Camp One 2024 is for youth in years 6-12. Visit the website for more information and to sign up.
URL:https://menaianglican.org/event/camp-one/
LOCATION:Youthworks Conference Centres\, Port Hacking\, 1 Rathane Rd\, Royal National Park\, NSW\, 2234\, Australia
CATEGORIES:MAC Youth
ATTACH;FMTTYPE=image/jpeg:https://menaianglican.org/wp-content/uploads/2020/06/mac-youth-slider.jpg
ORGANIZER;CN="Connor Davaram - Youth Minister":MAILTO:connor@menaianglican.org
END:VEVENT
BEGIN:VEVENT
DTSTART;TZID=Australia/Sydney:20240414T160000
DTEND;TZID=Australia/Sydney:20240414T173000
DTSTAMP:20260422T074253
CREATED:20240411T065226Z
LAST-MODIFIED:20240411T070546Z
UID:18988-1713110400-1713115800@menaianglican.org
SUMMARY:Fall into Prayer
DESCRIPTION:Prayer for our mission partners hosted by the Global Missions Team. Meeting at church in the Garden Room.
URL:https://menaianglican.org/event/fall-into-prayer/
LOCATION:Menai Anglican Church\, Broughton Place\, Barden Ridge\, NSW\, 2234\, Australia
ATTACH;FMTTYPE=image/png:https://menaianglican.org/wp-content/uploads/2024/04/Screenshot-2024-04-11-at-5.05.09 pm.png
END:VEVENT
BEGIN:VEVENT
DTSTART;TZID=Australia/Sydney:20240406T140000
DTEND;TZID=Australia/Sydney:20240406T173000
DTSTAMP:20260422T074253
CREATED:20240307T011006Z
LAST-MODIFIED:20240307T031831Z
UID:18893-1712412000-1712424600@menaianglican.org
SUMMARY:Clay Target Shooting - Men’s Event
DESCRIPTION:This event is open to any blokes over 18 years – you don’t need a firearms licence and all safety briefs and instruction will be provided by range staff. \nHeaps of fun and harder than it looks – so it’ll be a good challenge! \n\n\nSteve Wakeford will be speaking at this event. \nBook here: elvan.to/Q7gO3 \nPlease note that this event is limited to 60 blokes – so you’ll need to book in quickly. \nWe will finish in time to be home before dinner or SNC.
URL:https://menaianglican.org/event/clay-target-shooting-mens-event/
LOCATION:Sydney Clay Target Range on Heathcote Rd\, Lucas Heights\, Heathcote Rd\, Lucas Heights \, NSW\, Australia
CATEGORIES:Men’s Event
ATTACH;FMTTYPE=image/jpeg:https://menaianglican.org/wp-content/uploads/2024/03/SydneyClayTargetClub-Gallery-40.jpg
END:VEVENT
BEGIN:VEVENT
DTSTART;TZID=Australia/Sydney:20240331T073000
DTEND;TZID=Australia/Sydney:20240331T113000
DTSTAMP:20260422T074253
CREATED:20240313T235128Z
LAST-MODIFIED:20240313T235706Z
UID:18943-1711870200-1711884600@menaianglican.org
SUMMARY:Easter Services
DESCRIPTION:Easter is a wonderful time to come together and celebrate the life\, death and resurrection of Jesus. Everyone is welcome. \nJoin us at one of our three Easter Services: \n7:30am\, 9am*\, 10:30am* \n*With a kids’ program
URL:https://menaianglican.org/event/easter-services/
LOCATION:Menai Anglican Church\, Broughton Place\, Barden Ridge\, NSW\, 2234\, Australia
CATEGORIES:Church
ATTACH;FMTTYPE=image/jpeg:https://menaianglican.org/wp-content/uploads/2024/03/MAC_Easter_2024_Postcard.jpg
END:VEVENT
BEGIN:VEVENT
DTSTART;TZID=Australia/Sydney:20240329T073000
DTEND;TZID=Australia/Sydney:20240329T113000
DTSTAMP:20260422T074253
CREATED:20240313T235002Z
LAST-MODIFIED:20240313T235615Z
UID:18941-1711697400-1711711800@menaianglican.org
SUMMARY:Good Friday Services
DESCRIPTION:Easter is a wonderful time to come together and celebrate the life\, death and resurrection of Jesus. Everyone is welcome. \nJoin us at one of our three Good Friday Services: \n7:30am\, 9am*\, 10:30am* \n*With a kids’ program
URL:https://menaianglican.org/event/good-friday-services/
LOCATION:Menai Anglican Church\, Broughton Place\, Barden Ridge\, NSW\, 2234\, Australia
CATEGORIES:Church
ATTACH;FMTTYPE=image/jpeg:https://menaianglican.org/wp-content/uploads/2024/03/MAC_Easter_2024_Postcard.jpg
END:VEVENT
BEGIN:VEVENT
DTSTART;TZID=Australia/Sydney:20240327T200000
DTEND;TZID=Australia/Sydney:20240327T210000
DTSTAMP:20260422T074253
CREATED:20240313T234618Z
LAST-MODIFIED:20240314T232639Z
UID:18939-1711569600-1711573200@menaianglican.org
SUMMARY:Service of Shadows (A reflection on suffering)
DESCRIPTION:Menai Anglican Church is running a more reflective  “Service of Shadows” on Wednesday 27th March at 8pm. Kurt Peters will be speaking on Jesus’ suffering in the Garden of Gethsemane in the shadow of the cross. If you’ve ever experienced deep grief\, sorrow\, or pain\, this service will enable you to meet Jesus in that place. We’ll see how Jesus poured out his heart to the Father\, asking hard questions and battling temptation to bring us rest. This service will be good for anyone\, and might especially suit those who have had a rough time recently\, as well as those who are travelling over the Easter Weekend who don’t want to miss out focusing on Jesus.
URL:https://menaianglican.org/event/service-of-shadows-a-reflection-on-suffering/
LOCATION:Menai Anglican Church\, Broughton Place\, Barden Ridge\, NSW\, 2234\, Australia
CATEGORIES:Church
ATTACH;FMTTYPE=image/jpeg:https://menaianglican.org/wp-content/uploads/2024/03/MAC_Easter_2024_Postcard.jpg
END:VEVENT
BEGIN:VEVENT
DTSTART;TZID=Australia/Sydney:20240322T060000
DTEND;TZID=Australia/Sydney:20240324T160000
DTSTAMP:20260422T074253
CREATED:20240307T051014Z
LAST-MODIFIED:20240307T053137Z
UID:18923-1711087200-1711296000@menaianglican.org
SUMMARY:Everybody Eats
DESCRIPTION:A great way to spend time getting to know others from your congregation over a meal. You could even say Everybody Eats = everybody meets. Sign up today.
URL:https://menaianglican.org/event/everybody-eats/
LOCATION:NSW
CATEGORIES:Church
ATTACH;FMTTYPE=image/jpeg:https://menaianglican.org/wp-content/uploads/2024/02/Website-banner_2024.jpg
ORGANIZER;CN="Margaret Icke":MAILTO:margaret.icke@menaianglican.org
END:VEVENT
END:VCALENDAR