BEGIN:VCALENDAR
VERSION:2.0
PRODID:-//Menai Anglican Church - ECPv6.15.20//NONSGML v1.0//EN
CALSCALE:GREGORIAN
METHOD:PUBLISH
X-WR-CALNAME:Menai Anglican Church
X-ORIGINAL-URL:https://menaianglican.org
X-WR-CALDESC:Events for Menai Anglican Church
REFRESH-INTERVAL;VALUE=DURATION:PT1H
X-Robots-Tag:noindex
X-PUBLISHED-TTL:PT1H
BEGIN:VTIMEZONE
TZID:Australia/Sydney
BEGIN:STANDARD
TZOFFSETFROM:+1100
TZOFFSETTO:+1000
TZNAME:AEST
DTSTART:20240406T160000
END:STANDARD
BEGIN:DAYLIGHT
TZOFFSETFROM:+1000
TZOFFSETTO:+1100
TZNAME:AEDT
DTSTART:20241005T160000
END:DAYLIGHT
BEGIN:STANDARD
TZOFFSETFROM:+1100
TZOFFSETTO:+1000
TZNAME:AEST
DTSTART:20250405T160000
END:STANDARD
BEGIN:DAYLIGHT
TZOFFSETFROM:+1000
TZOFFSETTO:+1100
TZNAME:AEDT
DTSTART:20251004T160000
END:DAYLIGHT
BEGIN:STANDARD
TZOFFSETFROM:+1100
TZOFFSETTO:+1000
TZNAME:AEST
DTSTART:20260404T160000
END:STANDARD
BEGIN:DAYLIGHT
TZOFFSETFROM:+1000
TZOFFSETTO:+1100
TZNAME:AEDT
DTSTART:20261003T160000
END:DAYLIGHT
BEGIN:STANDARD
TZOFFSETFROM:+1100
TZOFFSETTO:+1000
TZNAME:AEST
DTSTART:20270403T160000
END:STANDARD
BEGIN:DAYLIGHT
TZOFFSETFROM:+1000
TZOFFSETTO:+1100
TZNAME:AEDT
DTSTART:20271002T160000
END:DAYLIGHT
END:VTIMEZONE
BEGIN:VEVENT
DTSTART;TZID=Australia/Sydney:20250818T170000
DTEND;TZID=Australia/Sydney:20250818T190000
DTSTAMP:20260422T045418
CREATED:20250807T044754Z
LAST-MODIFIED:20250807T044832Z
UID:20064-1755536400-1755543600@menaianglican.org
SUMMARY:MAC MONDAYS - KIDS CLUB EVENT
DESCRIPTION:MAC Mondays Kids Club Event \n18th August @5-7pm  | Kindy-Yr6 \nLASER TAG + Nerf Skirmish + Target games + PIZZA FOR DINNER! \nFREE EVENT FOR ALL! \nRSVP tokelly@menaianglican.org or just turn up on the night \n 
URL:https://menaianglican.org/event/mac-mondays-kids-club-event/
LOCATION:Menai Anglican Church\, Broughton Place\, Barden Ridge\, NSW\, 2234\, Australia
ATTACH;FMTTYPE=image/jpeg:https://menaianglican.org/wp-content/uploads/2025/08/Web-Calendar.jpg
END:VEVENT
BEGIN:VEVENT
DTSTART;TZID=Australia/Sydney:20250823T083000
DTEND;TZID=Australia/Sydney:20250823T160000
DTSTAMP:20260422T045418
CREATED:20250508T020647Z
LAST-MODIFIED:20250721T050509Z
UID:19917-1755937800-1755964800@menaianglican.org
SUMMARY:One Love Women’s Conference
DESCRIPTION:One Day Conference at Norwest.   \nWe will organise carpooling and reserve seats at the conference\, to sit together. \nCost: Adult $126 or Student $78 \nMorning Tea & Lunch included.  \nRegister as a group or an individual: onelovewomen.com/register  \nContact people: Margaret Icke | margaret.icke@menaianglcian.com \nFollow this link to register your place for group travel to the One Love event. \nSylvia Hampson | Sylvia@menaianglcan.org
URL:https://menaianglican.org/event/one-love-womens-conference/
LOCATION:Hillsong Conference Centre\, 13 Solent Circuit\, Baulkham Hills\, NSW\, 2153\, Australia
ATTACH;FMTTYPE=image/webp:https://menaianglican.org/wp-content/uploads/2025/05/onelove-2024-133-of-164-optimised.webp
ORGANIZER;CN="Margaret Icke":MAILTO:margaret.icke@menaianglican.org
END:VEVENT
BEGIN:VEVENT
DTSTART;TZID=Australia/Sydney:20250825T193000
DTEND;TZID=Australia/Sydney:20250825T210000
DTSTAMP:20260422T045418
CREATED:20250704T020648Z
LAST-MODIFIED:20250704T021628Z
UID:20023-1756150200-1756155600@menaianglican.org
SUMMARY:Image Bearers In A Broken World
DESCRIPTION:Digging Deeper at Menai Anglican Church with special guest speaker\, Rob Smith. \nOn this evening we will be exploring how to honour our God-given sex and gender in an LGBTQ+ world. \nAll welcome.
URL:https://menaianglican.org/event/image-bearers-in-a-broken-world/
LOCATION:Menai Anglican Church\, Broughton Place\, Barden Ridge\, NSW\, 2234\, Australia
ATTACH;FMTTYPE=image/jpeg:https://menaianglican.org/wp-content/uploads/2025/07/Slide_Rob-Smith-1.jpg
END:VEVENT
BEGIN:VEVENT
DTSTART;TZID=Australia/Sydney:20250914T114500
DTEND;TZID=Australia/Sydney:20250914T143000
DTSTAMP:20260422T045418
CREATED:20250908T035134Z
LAST-MODIFIED:20250908T035134Z
UID:20085-1757850300-1757860200@menaianglican.org
SUMMARY:ONBOARD - 14 September
DESCRIPTION:You’re invited to ONBOARD. \nONBOARD is all about making Menai Anglican Church home. \nIf you are committed to Jesus and want to find out what it means to be a part of our church\, come and join us. Hear from Andrew Barry about the story\, plans\, structures\, ministries and some of the distinctives of our church. Receive a booklet. Ask your questions. Find out about the next steps. The food is always amazing. \n  \nSunday 14 September  | 11.45 – 2.30pm \nLunchprovided + childminding \nRSVP to Margaret (margaret.icke@menaianglican.org)
URL:https://menaianglican.org/event/onboard-14-september/
LOCATION:Menai Anglican Church\, Broughton Place\, Barden Ridge\, NSW\, 2234\, Australia
ATTACH;FMTTYPE=image/png:https://menaianglican.org/wp-content/uploads/2025/02/Screenshot-2025-02-06-at-1.39.03 PM.png
ORGANIZER;CN="Margaret Icke":MAILTO:margaret.icke@menaianglican.org
END:VEVENT
BEGIN:VEVENT
DTSTART;TZID=Australia/Sydney:20251115T134500
DTEND;TZID=Australia/Sydney:20251115T160000
DTSTAMP:20260422T045418
CREATED:20251002T224614Z
LAST-MODIFIED:20251002T225212Z
UID:20101-1763214300-1763222400@menaianglican.org
SUMMARY:Christmas Women’s Event - Sat 15 Nov
DESCRIPTION:Christmas Clay Ornaments Workshop \nEmbrace the festive spirit and join us for a delightful workshop where you’ll learn to craft your very own exquisite\, handcrafted Christmas clay ornaments. Guided by the craft team\, you’ll create a minimum of six unique pieces—perfect for adding a personal touch to your Christmas décor.   \nAs we enjoy festive food together there will be a short joyful message about the reason for the season.  \nSat 15 Nov 1.45 – 4pm  (Child minding available this day only)\nor\nTue 18 Nov 7 – 9.30pm \n$25 per person.\nAll materials and Christmas sweet treats provided.\nBYO Christmas apron \nRegister by Sunday 6 Nov via this link here
URL:https://menaianglican.org/event/christmas-womens-event/
LOCATION:Menai Anglican Church\, Broughton Place\, Barden Ridge\, NSW\, 2234\, Australia
ATTACH;FMTTYPE=image/jpeg:https://menaianglican.org/wp-content/uploads/2025/10/Banner_website.jpg
ORGANIZER;CN="Margaret Icke":MAILTO:margaret.icke@menaianglican.org
END:VEVENT
BEGIN:VEVENT
DTSTART;TZID=Australia/Sydney:20251118T190000
DTEND;TZID=Australia/Sydney:20251118T213000
DTSTAMP:20260422T045418
CREATED:20251002T225010Z
LAST-MODIFIED:20251002T225010Z
UID:20112-1763492400-1763501400@menaianglican.org
SUMMARY:Christmas Women’s Event - Tue 18 Nov
DESCRIPTION:Christmas Clay Ornaments Workshop \nEmbrace the festive spirit and join us for a delightful workshop where you’ll learn to craft your very own exquisite\, handcrafted Christmas clay ornaments. Guided by the craft team\, you’ll create a minimum of six unique pieces—perfect for adding a personal touch to your Christmas décor.   \nAs we enjoy festive food together there will be a short joyful message about the reason for the season.  \nSat 15 Nov 1.45 – 4pm  (Child minding available this day only)\nor\nTue 18 Nov 7 – 9.30pm \n$25 per person.\nAll materials and Christmas sweet treats provided.\nBYO Christmas apron \nRegister by Sunday 6 Nov via this link here
URL:https://menaianglican.org/event/christmas-womens-event-tue-18-nov/
LOCATION:Menai Anglican Church\, Broughton Place\, Barden Ridge\, NSW\, 2234\, Australia
ATTACH;FMTTYPE=image/jpeg:https://menaianglican.org/wp-content/uploads/2025/10/Banner_website.jpg
ORGANIZER;CN="Margaret Icke":MAILTO:margaret.icke@menaianglican.org
END:VEVENT
BEGIN:VEVENT
DTSTART;TZID=Australia/Sydney:20251127T120000
DTEND;TZID=Australia/Sydney:20251127T140000
DTSTAMP:20260422T045418
CREATED:20251030T020650Z
LAST-MODIFIED:20251120T235800Z
UID:20175-1764244800-1764252000@menaianglican.org
SUMMARY:A Thanksgiving Lunch
DESCRIPTION:For members of our church. If you are free on Thursday 27th November at 12-2pm …  \nWe’d love you to join us for a lunch\, a chance to meet others from different congregations\, enjoy some talent\, have a laugh\, celebrate some ministries\, hear some plans\, pray\, eat some food and just have a great time together. \nMargaret and Andrew wanted to throw a lunch and it happens that the time we could do was American Thanksgiving. We won’t be making this Americana themed\, but we will piggyback on the opportunity to express thanks to God. \n$10 per head. Roast lunch. RSVP before Monday 24th November. \nEither \n\nRegister and pay online\n\nOR \n\nadd your name to the clipboard/contact Denise and pay on the day.
URL:https://menaianglican.org/event/a-thanksgiving-lunch/
LOCATION:Menai Anglican Church\, Broughton Place\, Barden Ridge\, NSW\, 2234\, Australia
CATEGORIES:Church
ATTACH;FMTTYPE=image/jpeg:https://menaianglican.org/wp-content/uploads/2025/10/Slide_Thanksgiving.jpg
END:VEVENT
BEGIN:VEVENT
DTSTART;TZID=Australia/Sydney:20251206T170000
DTEND;TZID=Australia/Sydney:20251206T210000
DTSTAMP:20260422T045418
CREATED:20251024T003730Z
LAST-MODIFIED:20251024T003730Z
UID:20151-1765040400-1765054800@menaianglican.org
SUMMARY:Carols on the Lawn
DESCRIPTION:Fun\, food\, entertainment\, carols and the Christmas story!\nThis year we’re kicking off the festive season with “Carols on the Lawn” here onsite at Menai Anglican Church. \nEveryone is welcome and there’s something for everyone. We’d love to see you there! Here’s what’s planned: \n5-6pm: Family Fun\nThe kids will love the jumping castle\, petting zoo\, fairy floss\, games and craft. Bring your picnic rug or outdoor chairs and enjoy a picnic dinner. The sausage sizzle and food trucks will have food available for purchase (cash and card accepted). \nPizza | Mexican | Burgers | Gozleme | Sausage Sizzle| Snocones | Dutch Pancakes | Ice Cream | Drinks | Coffee cart \n6-9pm: Carols\nWe’ll sing some favourite carols together and be entertained by local community groups. We will also hear the Christmas story.
URL:https://menaianglican.org/event/carols-on-the-lawn-2/
LOCATION:Menai Anglican Church\, Broughton Place\, Barden Ridge\, NSW\, 2234\, Australia
ATTACH;FMTTYPE=image/jpeg:https://menaianglican.org/wp-content/uploads/2025/10/Event-Banner_Carols.jpg
ORGANIZER;CN="Michael Figueira":MAILTO:michael@menaianglican.org
END:VEVENT
BEGIN:VEVENT
DTSTART;TZID=Australia/Sydney:20251218T193000
DTEND;TZID=Australia/Sydney:20251218T203000
DTSTAMP:20260422T045418
CREATED:20251106T025204Z
LAST-MODIFIED:20251106T025204Z
UID:20197-1766086200-1766089800@menaianglican.org
SUMMARY:Blue Christmas Service
DESCRIPTION:Blue Christmas – Thursday 18th Dec\, 7.30 – 8:30pm\n\n\nA quieter and more reflective Christmas service. For some\, Christmas may be a particularly difficult time of year for many different reasons. This service is an opportunity to reflect on the year that has been\, remember loved ones\, and also thank God for his comfort and great promises. \n“Christmas is supposed to sound like joy. Bells ringing\, laughter rising\, light filling the night. But for many\, this season plays in a minor key. There are empty chairs at the table\, photos that ache to look at\, and memories that stir both gratitude and grief. We smile because others do\, but sometimes behind that smile is a heart quietly breaking. “This child will be opposed… and a sword will pierce your soul too.” What a strange pairing\, joy and pain side by side. But that’s the gospel rhythm: glory through suffering\, resurrection through death\, redemption through the cross. Christmas reminds us that God doesn’t avoid our pain. He steps into it.“ \n– Keats Davaram\, Student Minister \nThe service will be livestreamed on YouTube and Facebook.
URL:https://menaianglican.org/event/blue-christmas-service-2/
LOCATION:Menai Anglican Church\, Broughton Place\, Barden Ridge\, NSW\, 2234\, Australia
ATTACH;FMTTYPE=image/jpeg:https://menaianglican.org/wp-content/uploads/2023/12/blue-christmas-web.jpg
ORGANIZER;CN="Michael Figueira":MAILTO:michael@menaianglican.org
END:VEVENT
BEGIN:VEVENT
DTSTART;TZID=Australia/Sydney:20260110T180000
DTEND;TZID=Australia/Sydney:20260111T193000
DTSTAMP:20260422T045418
CREATED:20251121T001649Z
LAST-MODIFIED:20251121T005953Z
UID:20231-1768068000-1768159800@menaianglican.org
SUMMARY:Big Questions - Talk 1
DESCRIPTION:Big Questions Talk 1: What if other people are just as convinced? \nIn a world full of confident opinions and passionate beliefs\, how can anyone claim to know what’s true?If every worldview has followers who are “just as convinced\,” where does that leave us? \nEveryone is welcome\, whether you’re curious\, skeptical\, or looking for answers. Over the weekend of the 10/11th Jan 2026 at our regular service we will be addressing this big question. \nWeekend Church Services \nSaturday 6pm\nSunday 8am\nSunday 10am (with kids program)\nSunday 6pm
URL:https://menaianglican.org/event/big-questions-series-talk-1/
LOCATION:Menai Anglican Church\, Broughton Place\, Barden Ridge\, NSW\, 2234\, Australia
ATTACH;FMTTYPE=image/jpeg:https://menaianglican.org/wp-content/uploads/2025/11/Big-Questions-Slide_20252.jpg
END:VEVENT
BEGIN:VEVENT
DTSTART;TZID=Australia/Sydney:20260117T180000
DTEND;TZID=Australia/Sydney:20260118T193000
DTSTAMP:20260422T045418
CREATED:20251121T003049Z
LAST-MODIFIED:20251121T003049Z
UID:20234-1768672800-1768764600@menaianglican.org
SUMMARY:Big Questions - Talk 2
DESCRIPTION:Big Questions Talk 2: Can we really trust the Bible? \nThe Bible is the world’s best-selling and most influential book—but can we actually trust it?Is it historically reliable? Has it been changed over time? How do we know it tells the truth about Jesus? \nEveryone is welcome\, whether you’re curious\, skeptical\, or looking for answers. Over the weekend of the 17/18th Jan 2026 at our regular service we will be addressing this big question. \nWeekend Church Services \nSaturday 6pm\nSunday 8am\nSunday 10am (with kids program)\nSunday 6pm
URL:https://menaianglican.org/event/big-questions-talk-2/
LOCATION:Menai Anglican Church\, Broughton Place\, Barden Ridge\, NSW\, 2234\, Australia
ATTACH;FMTTYPE=image/jpeg:https://menaianglican.org/wp-content/uploads/2025/11/Big-Questions-Slide_20253.jpg
END:VEVENT
BEGIN:VEVENT
DTSTART;TZID=Australia/Sydney:20260217T193000
DTEND;TZID=Australia/Sydney:20260217T210000
DTSTAMP:20260422T045418
CREATED:20251021T113709Z
LAST-MODIFIED:20251021T113709Z
UID:20146-1771356600-1771362000@menaianglican.org
SUMMARY:Discover
DESCRIPTION:If you’re not sure where you stand with God\, Discover is the best way of finding out for certain what you make of the Christian faith. This course explains not only the truth of Christianity but why that truth matters. \nLearn more about or register for DISCOVER here. \n 
URL:https://menaianglican.org/event/discover-2/
LOCATION:Menai Anglican Church\, Broughton Place\, Barden Ridge\, NSW\, 2234\, Australia
ATTACH;FMTTYPE=image/jpeg:https://menaianglican.org/wp-content/uploads/2025/01/Discover_W.jpg
END:VEVENT
BEGIN:VEVENT
DTSTART;TZID=Australia/Sydney:20260222T120000
DTEND;TZID=Australia/Sydney:20260222T140000
DTSTAMP:20260422T045418
CREATED:20260219T024242Z
LAST-MODIFIED:20260219T025001Z
UID:20358-1771761600-1771768800@menaianglican.org
SUMMARY:ONBOARD - 22 February
DESCRIPTION:You’re invited to ONBOARD. \nONBOARD is all about making Menai Anglican Church home. \nIf you are committed to Jesus and want to find out what it means to be a part of our church\, come and join us. Hear from Andrew Barry about the story\, plans\, structures\, ministries and some of the distinctives of our church. Receive a booklet. Ask your questions. Find out about the next steps. The food is always amazing. \n  \nSunday 22 February | 12noon – 2pm \nLunch provided + child minding \nRSVP to Margaret (margaret.icke@menaianglican.org)
URL:https://menaianglican.org/event/onboard-22-february/
LOCATION:Menai Anglican Church\, Broughton Place\, Barden Ridge\, NSW\, 2234\, Australia
ATTACH;FMTTYPE=image/png:https://menaianglican.org/wp-content/uploads/2025/02/Screenshot-2025-02-06-at-1.39.03 PM.png
ORGANIZER;CN="Margaret Icke":MAILTO:margaret.icke@menaianglican.org
END:VEVENT
BEGIN:VEVENT
DTSTART;TZID=Australia/Sydney:20260310T100000
DTEND;TZID=Australia/Sydney:20260310T120000
DTSTAMP:20260422T045418
CREATED:20260212T233345Z
LAST-MODIFIED:20260213T014649Z
UID:20350-1773136800-1773144000@menaianglican.org
SUMMARY:DAISY HILL 30th Anniversary
DESCRIPTION:Daisy Hill began in October 1995\, and this year marks 30 years of coffee\, craft and conversations. That’s more than enough reason to celebrate!  \nDate: Tuesday 10 March\nTime: 10:00am – 12:00 noon  \nPlease RSVP by 3 March: (02) 9541 0990 \n 
URL:https://menaianglican.org/event/daisy-hill-30th-anniversary/
LOCATION:NSW
ATTACH;FMTTYPE=image/jpeg:https://menaianglican.org/wp-content/uploads/2026/02/Daisy-Hill-Slides-web.jpg
ORGANIZER;CN="Margaret Icke":MAILTO:margaret.icke@menaianglican.org
END:VEVENT
BEGIN:VEVENT
DTSTART;TZID=Australia/Sydney:20260321T103000
DTEND;TZID=Australia/Sydney:20260321T120000
DTSTAMP:20260422T045418
CREATED:20260219T024739Z
LAST-MODIFIED:20260219T024829Z
UID:20360-1774089000-1774094400@menaianglican.org
SUMMARY:ONBOARD - 21 March (For Young Adults)
DESCRIPTION:You’re invited to ONBOARD. \nONBOARD is all about making Menai Anglican Church home. \nIf you are committed to Jesus and want to find out what it means to be a part of our church\, come and join us. Hear from Andrew Barry about the story\, plans\, structures\, ministries and some of the distinctives of our church. Receive a booklet. Ask your questions. Find out about the next steps. The food is always amazing. \nSunday 21 March | 10:30 – 12noon (change of time) \nLunch provided + child minding \nRSVP to Margaret (margaret.icke@menaianglican.org)
URL:https://menaianglican.org/event/onboard-21-march-for-young-adults/
LOCATION:Menai Anglican Church\, Broughton Place\, Barden Ridge\, NSW\, 2234\, Australia
ATTACH;FMTTYPE=image/png:https://menaianglican.org/wp-content/uploads/2025/02/Screenshot-2025-02-06-at-1.39.03 PM.png
ORGANIZER;CN="Margaret Icke":MAILTO:margaret.icke@menaianglican.org
END:VEVENT
BEGIN:VEVENT
DTSTART;TZID=Australia/Sydney:20260321T180000
DTEND;TZID=Australia/Sydney:20260321T180000
DTSTAMP:20260422T045418
CREATED:20260212T232753Z
LAST-MODIFIED:20260213T004612Z
UID:20347-1774116000-1774116000@menaianglican.org
SUMMARY:INFANT BAPTISM & DEDICATION
DESCRIPTION:Our next infant baptism and dedication services are on 21st and 22nd March. \nIf you’re thinking about baptism or dedication\, contact: Michael Figueira | michael@menaianglican.org
URL:https://menaianglican.org/event/infant-baptism-dedication/
LOCATION:Menai Anglican Church\, Broughton Place\, Barden Ridge\, NSW\, 2234\, Australia
ATTACH;FMTTYPE=image/jpeg:https://menaianglican.org/wp-content/uploads/2026/02/Infant-Baptism-and-Dedication-Slide.jpg
ORGANIZER;CN="Michael Figueira":MAILTO:michael@menaianglican.org
END:VEVENT
BEGIN:VEVENT
DTSTART;TZID=Australia/Sydney:20260322T120000
DTEND;TZID=Australia/Sydney:20260322T140000
DTSTAMP:20260422T045418
CREATED:20250206T024518Z
LAST-MODIFIED:20260219T025249Z
UID:19723-1774180800-1774188000@menaianglican.org
SUMMARY:ONBOARD - 22 MARCH
DESCRIPTION:You’re invited to ONBOARD. \nONBOARD is all about making Menai Anglican Church home. \nIf you are committed to Jesus and want to find out what it means to be a part of our church\, come and join us. Hear from Andrew Barry about the story\, plans\, structures\, ministries and some of the distinctives of our church. Receive a booklet. Ask your questions. Find out about the next steps. The food is always amazing. \nSunday 22 March | 12noon – 2pm \nLunch provided + child minding \nRSVP to Margaret (margaret.icke@menaianglican.org)
URL:https://menaianglican.org/event/onboard-23-march/
LOCATION:Menai Anglican Church\, Broughton Place\, Barden Ridge\, NSW\, 2234\, Australia
ATTACH;FMTTYPE=image/png:https://menaianglican.org/wp-content/uploads/2025/02/Screenshot-2025-02-06-at-1.39.03 PM.png
ORGANIZER;CN="Margaret Icke":MAILTO:margaret.icke@menaianglican.org
END:VEVENT
BEGIN:VEVENT
DTSTART;TZID=Australia/Sydney:20260416T180000
DTEND;TZID=Australia/Sydney:20260416T210000
DTSTAMP:20260422T045418
CREATED:20260416T033701Z
LAST-MODIFIED:20260416T033701Z
UID:20435-1776362400-1776373200@menaianglican.org
SUMMARY:Camp One Finale
DESCRIPTION:The Camp One finale is a great chance to get together with our campers and their families and celebrate the week we’ve had together. We gather at “SNC”\, the Saturday night church service at Menai Anglican Church\, and hear the final talk in the Bible teaching series from our camp speaker. Afterwards we’ll enjoy dinner together onsite at church. We will also get to watch a bunch of the videos that capture the highlights of our week together. All are welcome!
URL:https://menaianglican.org/event/camp-one-finale/
LOCATION:Menai Anglican Church\, Broughton Place\, Barden Ridge\, NSW\, 2234\, Australia
ATTACH;FMTTYPE=image/png:https://menaianglican.org/wp-content/uploads/2026/04/2027-Dates.png
END:VEVENT
BEGIN:VEVENT
DTSTART;TZID=Australia/Sydney:20260419T095000
DTEND;TZID=Australia/Sydney:20260419T113000
DTSTAMP:20260422T045418
CREATED:20260219T025554Z
LAST-MODIFIED:20260219T025554Z
UID:20363-1776592200-1776598200@menaianglican.org
SUMMARY:ONBOARD - 19 APRIL
DESCRIPTION:You’re invited to ONBOARD. \nONBOARD is all about making Menai Anglican Church home. \nIf you are committed to Jesus and want to find out what it means to be a part of our church\, come and join us. Hear from Andrew Barry about the story\, plans\, structures\, ministries and some of the distinctives of our church. Receive a booklet. Ask your questions. Find out about the next steps. The food is always amazing. \nSunday 19 April | 9:50 – 11:30am \nLunch provided + child minding \nRSVP to Margaret (margaret.icke@menaianglican.org)
URL:https://menaianglican.org/event/onboard-19-april/
LOCATION:Menai Anglican Church\, Broughton Place\, Barden Ridge\, NSW\, 2234\, Australia
ATTACH;FMTTYPE=image/png:https://menaianglican.org/wp-content/uploads/2025/02/Screenshot-2025-02-06-at-1.39.03 PM.png
ORGANIZER;CN="Margaret Icke":MAILTO:margaret.icke@menaianglican.org
END:VEVENT
BEGIN:VEVENT
DTSTART;TZID=Australia/Sydney:20260508T094000
DTEND;TZID=Australia/Sydney:20260508T130000
DTSTAMP:20260422T045418
CREATED:20260416T004620Z
LAST-MODIFIED:20260416T004649Z
UID:20429-1778233200-1778245200@menaianglican.org
SUMMARY:St Paul’s Social Golf Day
DESCRIPTION:Next golf event on Friday\, 8 May at Bexley Park GC with tee off times between 9:40 – 10:00. The approximate cost for the event will be around $35 for seniors and $40 for ‘youngies’ and includes golf and prizes. Carts are available to hire for $45 if you want one. Lunch is available at the Club Bistro. \nPrizes\nTeam 1st – 2 balls/player\, 2nd – 1 ball/player\nIndividual – 1st – 4 balls\, 2nd – 3 balls\, 3rd– 2 balls\, 4th – 1 ball\nNPs (3rd and 11th) – 2 balls\,
URL:https://menaianglican.org/event/st-pauls-social-golf-day/
LOCATION:Bexley Park GC\, 203 Stoney Creek Rd\, Kingsgrove\, NSW\, 2207\, Australia
ATTACH;FMTTYPE=image/png:https://menaianglican.org/wp-content/uploads/2026/04/Screenshot-2026-04-16-at-10.45.01-am.png
END:VEVENT
END:VCALENDAR